BEGIN:VCALENDAR
VERSION:2.0
PRODID:-//wp-events-plugin.com//7.2.2.1//EN
TZID:Europe/Berlin
X-WR-TIMEZONE:Europe/Berlin
BEGIN:VEVENT
UID:17@eliciasilverstein.com
DTSTART;TZID=Europe/Berlin:20240219T000000
DTEND;TZID=Europe/Berlin:20240219T000000
DTSTAMP:20251017T201243Z
URL:https://eliciasilverstein.com/events/elicia-silverstein-solo-bach-mast
 erclasses/
SUMMARY:Elicia Silverstein solo Bach Masterclasses
DESCRIPTION:19 - 22 February\, 2024
END:VEVENT
BEGIN:VTIMEZONE
TZID:Europe/Berlin
X-LIC-LOCATION:Europe/Berlin
BEGIN:STANDARD
DTSTART:20231029T020000
TZOFFSETFROM:+0200
TZOFFSETTO:+0100
TZNAME:CET
END:STANDARD
END:VTIMEZONE
END:VCALENDAR